BEGIN:VCALENDAR
VERSION:2.0
PRODID:-//Mantrailing - Zentrum//NONSGML kigkonsult.se iCalcreator 2.16.12/
 /
METHOD:PUBLISH
X-MS-OLK-FORCEINSPECTOROPEN:TRUE
BEGIN:VEVENT
UID:20260423T110401CEST-77667LLsZV@Mantrailing - Zentrum
DTSTAMP:20260423T090401Z
DESCRIPTION:\n	11.5.2026 bis 15.5.2026\n	Preis Mantrailing Woche: CHF 480 je 
 Team (exkl. Hotel)\n	Veranstalterin: Nadine Vogel \n\n\nProgramm\n\nIn der 
 Mantrailing Woche erwarten euch spannende\, abwechslungsreiche und auf den
  Trainingsstand angepasste Trails. Nebst dem intensiven und hochstehenden 
 Mantrailing-Training\, dürft ihr euch auf einen Austausch mit tollen Mensc
 hen mit dem Mantrailing-Virus freuen.\n\n\n	Mo\, 11.5. Anreise\, Nachmittag
 s Mantrailing\n	Di\, 12.5. bis Fr\, 15.5.26 Mantrailing\n\n\nSiehe auch den
  Bericht und Impressionen der Mantrailing-Woche 2025 an der Lenk »\n\nUnte
 rkunft\n\nDie Unterkunft ist das Hotel Alpenland in Lauenen und wird durch
  Nadine nach der Anmeldung organisiert (nicht im Preis enthalten). \n\n \n
 \nOrganisatorinnen\n\nNadine Vogel\, Mantrailing - Instruktorinnen MTZ/SVM
 I + Sandra Burri\n\n\n\nWeitere Infos zur Mantrailing-Woche\n\nBei Fragen 
 oder für weitere Auskünfte wendet euch bitte direkt an Nadine.\n\nWeitere 
 Infos von Nadine: +41 78 212 00 22 / Mail: nadine.vogel@sensemail.ch\n\nIm
 pressionen\n\n\n\n\n\n\n
DTSTART:20260511T140000
DTEND:20260515T170000
LOCATION:Saaneland (BE)
ORGANIZER:MAILTO:Mantrailing - Zentrum <markus@mantrailing-zentrum.ch>
SUMMARY:Mantrailing Woche 2026 Lauenen (BE) mit Nadine
END:VEVENT
END:VCALENDAR
