BEGIN:VCALENDAR
VERSION:2.0
PRODID:-//Mantrailing - Zentrum//NONSGML kigkonsult.se iCalcreator 2.16.12/
 /
METHOD:PUBLISH
X-MS-OLK-FORCEINSPECTOROPEN:TRUE
BEGIN:VEVENT
UID:20260421T105406CEST-8603wp98b1@Mantrailing - Zentrum
DTSTAMP:20260421T085406Z
DESCRIPTION:\n\nDer MTZ-Trailtag richtet sich an Mantrailer*innen mit minde
 stens 20 Trainings und ist auch für Trainer\, Gruppenleiter oder Instrukto
 ren geeignet. An diesem Tag werden wir gemeinsam Mittagessen und die Erfah
 rungen austauschen und „fachsimpeln“.\n\nFalls an einem spezifischen Thema
  oder Problem gearbeitet werden soll\, darf dies gerne bei der Abfrage ein
 gebracht werden.\n\n\n\nAblauf MTZ-Trailtag\n\n08.45 Check-In\, Begrüssung
  und Abfrage\n09.00 Mantrailing-Training in zwei Gruppen mit maximal 4 Tea
 ms (2 Trails je Team)\n12.00 Mittagessen & Fachsimpeln\n14.00 Mantrailing-
 Training in zwei Gruppen mit maximal 4 Teams (1 Trail je Team)\n16.00 Absc
 hluss-Besprechung\n\n*Hinweis: Es werden höchstens 8 Mantrailing-Teams zug
 elassen. Wir berücksichtigen die Eingangsreihenfolge (Zeitstempel).\n\nMTZ
 -Trailtag ist geeignet für\n\n\n	Sporttrailer*innen\n	Teams mit Vorbereitung
  auf Einsätze\n	Einsatzteams\n	Gruppenleiter*innen von Mantrailing-Gruppen i
 n Hundeschulen und Hundevereinen\n	Ausgebildete Mantrailing-Trainer oder In
 struktoren\n\n\nMantrailing - Instruktoren\n\n\n	Joelle Fuchser\, Mantraili
 ng Instruktorin SVMI/MTZ\n	Markus Binggeli\, Mantrailing Instruktor SVMI/MT
 Z\n\n\nKonditionen\n\n\n	Preis für Kunden mit Abo vom Mantrailing Zentrum M
 TZ\, Abgänger*innen Mantrailing-Akademie und SVMI-Mitglieder: CHF 120\n	Pre
 is für weitere Mantrailing-Freunde\, Kunden und Trainer: CHF 150\n	Das Mitt
 agessen und Konsumation sind im Preis nicht inbegriffen und werden selbst 
 bezahlt.\n	Die Anmeldung ist verbindlich.\n	Hinweis: Das System lässt nur 8 
 Anmeldungen zu.\n\n\nVoraussetzungen\n\n\n	Gesundes Mantrailing Team (Mensc
 h und Hund)\n	Mindestalter Hund 12 Monate\n	angetrailter Hund mit gefestigte
 n Startritual und mindestens 20 Mantrailing Trainings\n	Geeignet für alle S
 tufen\, inkl. fortgeschrittene Teams und Mantrailing-Trainer / -Instruktor
 en\n\n\n\n
DTSTART:20261010T084500
DTEND:20261010T170000
LOCATION:Parkplatz
ORGANIZER:MAILTO:Mantrailing - Zentrum <markus@mantrailing-zentrum.ch>
SUMMARY:[noch 6 Plätze frei] Intensivtraining: MTZ-Trailtag in Burgdorf
END:VEVENT
END:VCALENDAR
