BEGIN:VCALENDAR
VERSION:2.0
PRODID:-//Mantrailing - Zentrum//NONSGML kigkonsult.se iCalcreator 2.16.12/
 /
METHOD:PUBLISH
X-MS-OLK-FORCEINSPECTOROPEN:TRUE
BEGIN:VEVENT
UID:20260421T105537CEST-1620flXTFt@Mantrailing - Zentrum
DTSTAMP:20260421T085537Z
DESCRIPTION:\n\nDer MTZ-Trailtag richtet sich an Mantrailer*innen mit minde
 stens 20 Trainings und ist auch für Trainer\, Gruppenleiter oder Instrukto
 ren geeignet. An diesem Tag werden wir gemeinsam Mittagessen und die Erfah
 rungen austauschen und „fachsimpeln“.\n\nFalls an einem spezifischen Thema
  oder Problem gearbeitet werden soll\, darf dies gerne bei der Abfrage ein
 gebracht werden.\n\n\n\nAblauf MTZ-Trailtag\n\n08.45 Check-In\, Begrüssung
  und Abfrage\n09.00 Mantrailing-Training in zwei Gruppen mit maximal 4 Tea
 ms (2 Trails je Team)\n12.00 Mittagessen & Fachsimpeln\n14.00 Mantrailing-
 Training in zwei Gruppen mit maximal 4 Teams (1 Trail je Team)\n16.00 Absc
 hluss-Besprechung\n\n*Hinweis: Es werden höchstens 8 Mantrailing-Teams zug
 elassen. Wir berücksichtigen die Eingangsreihenfolge (Zeitstempel).\n\nMTZ
 -Trailtag ist geeignet für\n\n\n	Sporttrailer*innen\n	Teams mit Vorbereitung
  auf Einsätze\n	Rettungshundeführer*innen / Einsatzteams\n	Gruppenleiter*inn
 en von Mantrailing-Gruppen in Hundeschulen und Hundevereinen\n	Ausgebildete
  Mantrailing-Trainer oder Instruktoren\n\n\nMantrailing - Instruktoren\n\n
 \n	Joelle Fuchser\, Mantrailing Instruktorin SVMI/MTZ\n	Markus Binggeli\, Ma
 ntrailing Instruktor SVMI/MTZ\n\n\nKonditionen\n\n\n	Preis für Kunden mit A
 bo vom Mantrailing Zentrum MTZ\, Abgänger*innen der Mantrailing-Akademie u
 nd SVMI-Mitglieder: CHF 120\n	Preis für weitere Mantrailing-Freunde\, Kunde
 n und Trainer: CHF 150\n	Das Mittagessen und Konsumation sind im Preis nich
 t inbegriffen und werden selbst bezahlt.\n	Die Anmeldung ist verbindlich.\n
 	Hinweis: Das System lässt nur 8 Anmeldungen zu.\n\n\nVoraussetzungen\n\n\n
 	Gesundes Mantrailing Team (Mensch und Hund)\n	Mindestalter Hund 12 Monate\n
 	angetrailter Hund mit gefestigten Startritual und mindestens 20 Mantrailin
 g Trainings\n	Geeignet für alle Stufen\, inkl. fortgeschrittene Teams und M
 antrailing-Trainer / -Instruktoren\n\n\n\n
DTSTART:20260912T084500
DTEND:20260912T170000
LOCATION:Kiesparkplatz Schlossgut Münsingen
ORGANIZER:MAILTO:Mantrailing - Zentrum <markus@mantrailing-zentrum.ch>
SUMMARY:[noch 7 Plätze] Intensivtraining: MTZ-Trailtag in Münsingen
END:VEVENT
END:VCALENDAR
