BEGIN:VCALENDAR
VERSION:2.0
PRODID:-//Mantrailing - Zentrum//NONSGML kigkonsult.se iCalcreator 2.16.12/
 /
METHOD:PUBLISH
X-MS-OLK-FORCEINSPECTOROPEN:TRUE
BEGIN:VEVENT
UID:20260421T105335CEST-4648OvPr2D@Mantrailing - Zentrum
DTSTAMP:20260421T085335Z
DESCRIPTION:\n\nLernziele\n\n\n\n\n	Signale vom Hund kennen\n	Körpersprache k
 ennen und das Lesen vom Hund üben\n	MTZ - Körpersprache - Erfolgsspirale\n	W
 ie Hundeführende die Suchleistung des Hundes unterstützen können\n	Warum ei
 ne gute Körpersprache beim Mantrailing wichtig ist\n	Wie man eine klare Kör
 persprache beim Hund aufbaut\n	Körpersprache Mensch – mögliche Fehler/Auswi
 rkung auf den Hund\n	Körpersprache Hund – mögliche Fehler durch Beeinflussu
 ng des Hundeführers & Fehlerkorrektur\n\n\nProgramm\n\n\n	\n		\n			08.45\n			Eintre
 ffen der Teams (Hunde warten im Auto)\, Begrüssung und Check in\n		\n		\n			09.00
 \n			Theorie (Referent Markus Binggeli)\n		\n		\n			10.20\n			lange Pause um die Hunde 
 zu versäubern und zu versorgen\n		\n		\n			10.50\n			Theorie mit Gruppenübungen (Ref
 erent Markus Binggeli)\n		\n		\n			12.00\n			Gemeinsames Mittagessen (nicht im Semin
 arpreis enthalten) und Hunde bewegen\n		\n		\n			13.30\n			Praxisarbeit in Gruppen à
  max 5 Teams\n		\n		\n			16.30\n			Abschlussbesprechung\n		\n	\n\n\nInstruktoren\n\n\n	J
 oelle Fuchser\, Mantrailingtrainerin MTZ / SVMI\n	Markus Binggeli\, Mantrai
 lingtrainer MTZ / SVMI\n\n\nPreis\n\n\n	Kunden mit Abo vom Mantrailing Zent
 rum MTZ\, Abgänger*innen der Mantrailing-Akademie und SVMI-Mitglieder: CHF
  150\n	weitere Mantrailing-Freunde\, Kunden und Trainer: CHF 180\n	Zahlung v
 or Ort in Bar oder mittels Twint an Joelle\n\n\nVoraussetzungen\n\n\n	Gesun
 des Mantrailing Team (Mensch und Hund)\n	Mindestalter Hund 9 Monate\n	angetr
 ailter Hund mit gefestigten Startritual und mindestens 10 Mantrailing Trai
 nings\n	ebenfalls für fortgeschrittene Teams und Mantrailing-Trainer geeign
 et\n\n\nKundenstimmen und Rückmeldungen\n\n\n	«Danke für da cool Tag! chöme
 t guet hei...» - Daniela E.\n	«Merci vielmal für den tollen Tag! Ich habe m
 ehrere Hunde mit ihren „Körpersignalen“ kennen gelernt! Markus und Joelle 
 vielen Dank für das professionelle Unterrichten! Es war toll! Grüessli an 
 alle! Vreni» - Vreni C.\n	«Ou i danke für de toll Tag und die viele Iblicke
  ou bi de andere Teams. Isch sehr spannend und ou lehrrich gsi. Ou toll di
 e viele Videos wo me sech de i rueh no Mau chan aluege.» - Angela L.\n	«Mer
 ci viu mau für dä lehrrich Tag. Es isch mega spannend gsi u mir hei viu nö
 is glert. Mir chöme sehr gärn widr\, bis zum nächste Mau.» - Michèle B.\n	«
 Ou i danke härzlech für das super seminar adri u i hei u fortschritte gmac
 ht i danke ou a aui vo gfiumet u gfötelet hei mir chöme ou gärn wider» - C
 ornelia L.\n	«härzleche dank für dä intressanti tag. hätt nie gloubt dass m
 ir aus härzblut sanihündeler ä anderi hundesport art so cha fasziniere. ha
  hüt wieder viu mitgno.» - Stefan W.\n	«ja mir si üsem rudelcamp aschi dank
 bar hett er üs vo euch zwöi vorgschwärmt. jitz heit er üs am hals u mir ch
 öme a witeri mantrailseminar» - Stefan W.\n	«Merci ou vo mir viumol für de 
 sehr lehrrich u tolle Tag! Mir nähme viu positivs mit hei u o danke fürs f
 liessige fötele u fiume» - Pamela I.\n	«Guete Morge zäme. I cha mi dene vie
 le lobende Wort nur aschliesse. Es isch es super interessante Tag gsi wo i
  viu glehrt ha. Es isch e wahri Fröid gsi\, mit däm nöie\, gschärfe Blick 
 gah ds Traile u so wie der Sancho ab isch\, het er das bestimmt ou gspürt.
  Merci für alles!\n	Wär Zyt das das dir ins Seeland expandieret. \;-) » - S
 tephanie D.\n\n\n\n
DTSTART:20261024T084500
DTEND:20261024T163000
LOCATION:Wisle Restaurant
ORGANIZER:MAILTO:Mantrailing - Zentrum <markus@mantrailing-zentrum.ch>
SUMMARY:Seminar: Körpersprache und klares Negativ im Mantrailing
END:VEVENT
END:VCALENDAR
