BEGIN:VCALENDAR
VERSION:2.0
PRODID:-//Mantrailing - Zentrum//NONSGML kigkonsult.se iCalcreator 2.16.12/
 /
METHOD:PUBLISH
X-MS-OLK-FORCEINSPECTOROPEN:TRUE
BEGIN:VEVENT
UID:20260421T105006CEST-3199uI7SB8@Mantrailing - Zentrum
DTSTAMP:20260421T085006Z
DESCRIPTION:\n\nDieses Seminar ist unbenannt und hiess zuvor 'Hotspot Entsc
 heidung'.\n\nLernziele\n\n\n\n\n	Korrektes Leinenhandling kennen\, üben und
  festigen\n	Verschiedene Situationen bei Abgängen und Kreuzungen kennen ler
 nen und die Position vom Hundeführer kennen\, üben und festigen\n	Arbeit in
  Entscheidungen kennen lernen\, üben und festigen\n	Hund vor\, in und nach 
 der Entscheidung lesen lernen\n\n\nProgramm\n\n\n	\n		\n			08.45\n			Eintreffen der
  Teams (Hunde warten im Auto)\, Begrüssung und Check in\n		\n		\n			09.00\n			Theori
 e (Referent Markus Binggeli)\n		\n		\n			10.20\n			lange Pause um die Hunde zu versä
 ubern und zu versorgen\n		\n		\n			10.50\n			Theorie mit Gruppenübungen (Referent Ma
 rkus Binggeli)\n		\n		\n			12.00\n			Gemeinsames Mittagessen (nicht im Seminarpreis 
 enthalten) und Hunde bewegen\n		\n		\n			13.30\n			Praxisübung ohne Hunde\n		\n		\n			14.00
 \n			Praxisarbeit in Gruppen à max 5 Teams je Instruktor/in\n		\n		\n			16.30\n			Absch
 lussbesprechung\n		\n	\n\n\nInstruktoren\n\n\n	Joelle Fuchser\, Mantrailing-In
 struktorin MTZ/SVMI\n	Markus Binggeli\, Mantrailing-Instruktor MTZ/SVMI\n\n
 \nPreis\n\n\n	Kunden mit Abo vom Mantrailing Zentrum MTZ\, Abgänger*innen d
 er Mantrailing Akademie und SVMI-Mitglieder: CHF 150\n	weitere Mantrailing-
 Freunde\, Kunden und Trainer: CHF 180\n	Zahlung vor Ort in Bar oder mittels
  Twint an Joelle\n\n\nVoraussetzungen\n\n\n	Gesundes Mantrailing Team (Mens
 ch und Hund)\n	Mindestalter Hund 9 Monate\n	angetrailter Hund mit gefestigte
 n Startritual und mindestens 10 Mantrailing Trainings\n	ebenfalls für fortg
 eschrittene Teams\, Rettungshundeführer*in\, Mantrailing-Trainer*innen und
  Mantrailing-Instruktor*innen geeignet\n\n\nRückmeldungen und Stimmen von 
 Teilnehmer/innen\n\n\n	«möcht mi au ganz härzlech bedanke. sisch wieder ä i
 ntressante coole tag gsi. u mir chöme am 11.5. wieder u freue üs uf ne wit
 ere trailtag mit euch. gueti zyt» - Stefan W.\n	«Danke öich viumau! Äs isch
  sehr wärtvou gsi u mir hei sehr viu chönne provitiere u mitnäh. Isch mir 
 es Liechtli ufgange. Danke» - Fränzi S.\n	«Es isch e mega coole u lehrriche
  Tag gsi. Dr Milo isch scho haub am Ischlofe. Es fägt eifach immer ungloub
 lech mit öich u ou mir fröie üs ufe Intensivtrailtag am 11.5.» - Michèle B
 .\n	«I bedanke mi ou ganz härzlech\, ha mega freud wie dr adri gschaffet he
 t i freue mi ou ufe nächscht kurs» - Cornelia L.\n	«härzleche Dank für dä t
 olli tag. mir si beidi fix u foxi\, hey aber sehr viiu glernt hüt u fröie 
 üs es nöchst wuche azwände.» - Catherine N.\n\n\n\n
DTSTART:20261003T084500
DTEND:20261003T163000
LOCATION:Wisle Restaurant
ORGANIZER:MAILTO:Mantrailing - Zentrum <markus@mantrailing-zentrum.ch>
SUMMARY:Seminar: Entscheidungen als Team erarbeiten
END:VEVENT
END:VCALENDAR
