BEGIN:VCALENDAR
VERSION:2.0
PRODID:-//Mantrailing - Zentrum//NONSGML kigkonsult.se iCalcreator 2.16.12/
 /
METHOD:PUBLISH
X-MS-OLK-FORCEINSPECTOROPEN:TRUE
BEGIN:VEVENT
UID:20260421T105019CEST-6954iWG2gN@Mantrailing - Zentrum
DTSTAMP:20260421T085019Z
DESCRIPTION:\n\nDieses Seminar richtet sich an fortgeschrittene Teams oder 
 Mantrailing-Trainer/innen. Für dieses Seminar sind maximal 4 Teams je Mant
 railing-Instruktor/in zugelassen. Damit können je Seminar maximal 8 Teams 
 teilnehmen.\n\nAuf dem Trail kann es verschiedene Schwierigkeiten geben. D
 ie Situationen sind manchmal nicht ganz klar und plötzlich ist der Hund ni
 cht mehr klar zu lesen. Das Team ist vom Trail abgekommen oder einfach nic
 ht mehr sicher. Wer kennt diese Situationen an einer Prüfung\, im Einsatz 
 oder als Double Blind nicht?\n\nGenau in dieser Situation ist es wichtig e
 inen «Plan B» zu haben und richtig zu reagieren. An diesem Seminar wird ma
 n sensibilisiert auf die verschiedenen Situationen und man erhält eine sys
 tematische Struktur in die Hand\, damit auch diese Situationen gelöst werd
 en können.\n\nLernziele\n\n\n\n\n	Schwierige Situationen auf dem Double Bli
 nd Trail kennen\n	Systematische Struktur um Sicherheit auf dem Double Blind
  Trail zu gewinnen\n	Sicherheit und Routine erhalten\, um den «Plan B» zuve
 rlässig umzusetzen\n	Teamarbeit auf dem Trail stärken\n\n\nProgramm\n\n\n	\n
 		\n			08.45\n			Eintreffen der Teams (Hunde warten im Auto)\, Begrüssung und Chec
 k in\n		\n		\n			09.00\n			Theorie (Referent Markus Binggeli)\n		\n		\n			10.20\n			lange Paus
 e um die Hunde zu versäubern und zu versorgen\n		\n		\n			10.50\n			Theorie (Referen
 t Markus Binggeli)\n		\n		\n			12.00\n			Gemeinsames Mittagessen (nicht im Seminarpr
 eis enthalten) und Hunde bewegen\n		\n		\n			13.30\n			Praxisübung ohne Hunde\n		\n		\n			1
 4.00\n			Praxisarbeit in Gruppen à max 4 Teams je Instruktor/in\n		\n		\n			16.30\n			A
 bschlussbesprechung\n		\n	\n\n\nInstruktoren\n\n\n	Joelle Fuchser\, Mantrailin
 g-Instruktorin MTZ/SVMI\n	Markus Binggeli\, Mantrailing-Instruktor MTZ/SVMI
 \n\n\nPreis\n\n\n	Kunden mit Abo vom Mantrailing Zentrum MTZ\, Abgänger*inn
 en Mantrailing-Akademie und SVMI-Mitglieder: CHF 150\n	weitere Mantrailing-
 Freunde\, Kunden und Trainer: CHF 180\n	Zahlung vor Ort in Bar oder mittels
  Twint an Joelle\n\n\nVoraussetzungen\n\n\n	Gesundes Mantrailing Team (Mens
 ch und Hund)\n	Fortgeschrittene Teams\, die regelmässig trainieren\n	ebenfal
 ls Mantrailing-Trainer geeignet\n\n\n\n\n\n
DTSTART:20260530T084500
DTEND:20260530T163000
LOCATION:Wisle Restaurant
ORGANIZER:MAILTO:Mantrailing - Zentrum <markus@mantrailing-zentrum.ch>
SUMMARY:[noch 2 Plätze frei] Seminar: «Plan B» im Mantrailing
END:VEVENT
END:VCALENDAR
