BEGIN:VCALENDAR
VERSION:2.0
PRODID:-//Mantrailing - Zentrum//NONSGML kigkonsult.se iCalcreator 2.16.12/
 /
METHOD:PUBLISH
X-MS-OLK-FORCEINSPECTOROPEN:TRUE
BEGIN:VEVENT
UID:20260421T170457CEST-0339wwCwoL@Mantrailing - Zentrum
DTSTAMP:20260421T150457Z
DESCRIPTION:In der Zusammenarbeit mit Olepi Dogsport und DogAndYou.ch organ
 isiert das Mantrailing – Zentrum die Mantrailing – Prüfungen in der Region
  Thun / Bern.\n\nFür die Mantrailing Prüfung können wir maximal 10 Prüfung
 steams einen Platz bieten. Berücksichtigt werden die Anmeldungen nach Zeit
 stempel und dessen Reihenfolge. Die Teams werden in Gruppen aufgeboten und
  die Hundeführer/innen werden ebenfalls als Versteckperson eingesetzt.\n\n
 Programm Mantrailing Prüfung\n\n08.30 Check-In Gruppe 1\n08.45 Briefing de
 r Prüfungsteams und Helfer\n09.00 Start der Prüfung\nca. 12.00 Debriefing
 \n\n13.00 Check-In Gruppe 2\n13.15 Briefing der Prüfungsteams und Helfer\n
 13.30 Start der Prüfung\nca. 17.00 Debriefing\n\nPrüfungs – Experten\n\n\n
 	Prisca Hofmann\, zertifizierte Mantrailing Trainerin und Inhaberin von Dog
 AndYou.ch\n	Max Russenberger\, zertifizierter Mantrailing Trainer und Inhab
 er von Olepi Dogsport\n\n\nPrüfungsreglement Mantrailing Prüfung\n\nBitte 
 lest euch das Prüfungsreglement vor der Anmeldung aufmerksam durch.\n\n\n	P
 rüfungsreglement von DogAndYou.ch »\n\n\n**Hinweis: Im Reglement wird die 
 Anmeldung bei DogAndYou.ch erwähnt. Für diese Prüfung bitte gleich hier an
 melden.\n\nPreise für Abo-Kunden Pia Riesen Mantrailing oder Mantrailing -
  Zentrum\n\n\n	MT-Leistungsstufe 1: CHF 55.00\n	MT-Leistungsstufe 2: CHF 75.
 00\n	MT-Leistungsstufe 3: CHF 95.00\n	MT-Leistungsstufe 4: CHF 120.00\n	MT-Le
 istungsstufe 5: CHF 130.00\n\n\nPreise externe Kunden\n\n\n	MT-Leistungsstu
 fe 1: 70.00\n	MT-Leistungsstufe 2: CHF 95.00\n	MT-Leistungsstufe 3: CHF 105.
 00\n	MT-Leistungsstufe 4: CHF 135.00\n	MT-Leistungsstufe 5: CHF 150.00\n\n\n
 Diese Beträge werden vor Ort eingezogen und gelten auch bei kurzfristiger 
 Absage als geschuldet.\n\nTipp\n\nBei Unsicherheiten besprecht dies mit eu
 ren Mantrailing – Trainern und bereitet euch auf die Prüfung vor.\n
DTSTART:20211114T083000
DTEND:20211114T170000
LOCATION:Grossraum Thun und Bern
ORGANIZER:MAILTO:Mantrailing - Zentrum <markus@mantrailing-zentrum.ch>
SUMMARY:Mantrailing Prüfungen Leistungsstufe 1 + 2
END:VEVENT
END:VCALENDAR
